BEGIN:VCALENDAR
VERSION:2.0
PRODID:-//Evenimente Culturale//RO
CALSCALE:GREGORIAN
METHOD:PUBLISH
BEGIN:VEVENT
UID:019d8b53-2ddd-704a-be3c-ca7f1a321273@evenimenteculturale.ro
DTSTAMP:20260421T094354Z
DTSTART;VALUE=DATE:20260415
DTEND;VALUE=DATE:20260916
SUMMARY:ASTRA înTINE(r)este – Concurs național de proză scurtă pentru tineri autori
DESCRIPTION:April 2026\\nhttps://evenimenteculturale.ro/eveniment/astra-intinereste-concurs-national-de-proza-scurta-pentru-tineri-autori
LOCATION:Biblioteca Județeană Astra Corp B
URL:https://evenimenteculturale.ro/eveniment/astra-intinereste-concurs-national-de-proza-scurta-pentru-tineri-autori
END:VEVENT
END:VCALENDAR
