BEGIN:VCALENDAR
VERSION:2.0
PRODID:-//Evenimente Culturale//RO
CALSCALE:GREGORIAN
METHOD:PUBLISH
BEGIN:VEVENT
UID:019daaf4-9f9d-702a-aba5-72ced34f401c@evenimenteculturale.ro
DTSTAMP:20260421T112847Z
DTSTART:20260423T080000
DTEND:20260423T180000
SUMMARY:Biblioteca Județeană „Lucian Blaga” Alba sărbătorește Ziua Bibliotecarului din România
DESCRIPTION:April 2026\\nhttps://evenimenteculturale.ro/eveniment/biblioteca-judeteana-lucian-blaga-alba-sarbatoreste-ziua-bibliotecarului-din-romania
LOCATION:Biblioteca Județeană „Lucian Blaga” Alba
URL:https://evenimenteculturale.ro/eveniment/biblioteca-judeteana-lucian-blaga-alba-sarbatoreste-ziua-bibliotecarului-din-romania
END:VEVENT
END:VCALENDAR
