BEGIN:VCALENDAR
VERSION:2.0
PRODID:-//Evenimente Culturale//RO
CALSCALE:GREGORIAN
METHOD:PUBLISH
BEGIN:VEVENT
UID:019daec9-4531-7077-9799-a12d37922a27@evenimenteculturale.ro
DTSTAMP:20260421T111650Z
DTSTART:20260428T120000
DTEND:20260428T133000
SUMMARY:Raftul Bibliotecii Județene „Lucian Blaga” Alba ajunge la Râmeț
DESCRIPTION:April 2026\\nhttps://evenimenteculturale.ro/eveniment/raftul-bibliotecii-judetene-lucian-blaga-alba-ajunge-la-ramet
LOCATION:Râmeț
URL:https://evenimenteculturale.ro/eveniment/raftul-bibliotecii-judetene-lucian-blaga-alba-ajunge-la-ramet
END:VEVENT
END:VCALENDAR
